BEGIN:VCALENDAR
VERSION:2.0
PRODID:-//LGBTQ Studies - UCLA - ECPv6.15.12.2//NONSGML v1.0//EN
CALSCALE:GREGORIAN
METHOD:PUBLISH
X-WR-CALNAME:LGBTQ Studies - UCLA
X-ORIGINAL-URL:https://lgbtqstudies.ucla.edu
X-WR-CALDESC:Events for LGBTQ Studies - UCLA
REFRESH-INTERVAL;VALUE=DURATION:PT1H
X-Robots-Tag:noindex
X-PUBLISHED-TTL:PT1H
BEGIN:VTIMEZONE
TZID:America/Los_Angeles
BEGIN:DAYLIGHT
TZOFFSETFROM:-0800
TZOFFSETTO:-0700
TZNAME:PDT
DTSTART:20180311T100000
END:DAYLIGHT
BEGIN:STANDARD
TZOFFSETFROM:-0700
TZOFFSETTO:-0800
TZNAME:PST
DTSTART:20181104T090000
END:STANDARD
BEGIN:DAYLIGHT
TZOFFSETFROM:-0800
TZOFFSETTO:-0700
TZNAME:PDT
DTSTART:20190310T100000
END:DAYLIGHT
BEGIN:STANDARD
TZOFFSETFROM:-0700
TZOFFSETTO:-0800
TZNAME:PST
DTSTART:20191103T090000
END:STANDARD
BEGIN:DAYLIGHT
TZOFFSETFROM:-0800
TZOFFSETTO:-0700
TZNAME:PDT
DTSTART:20200308T100000
END:DAYLIGHT
BEGIN:STANDARD
TZOFFSETFROM:-0700
TZOFFSETTO:-0800
TZNAME:PST
DTSTART:20201101T090000
END:STANDARD
END:VTIMEZONE
BEGIN:VEVENT
DTSTART;TZID=America/Los_Angeles:20191202T120000
DTEND;TZID=America/Los_Angeles:20191202T130000
DTSTAMP:20260422T073222
CREATED:20191030T205800Z
LAST-MODIFIED:20191030T205800Z
UID:3824-1575288000-1575291600@lgbtqstudies.ucla.edu
SUMMARY:LGBTQS Co-sponsored event- OUTlet: Queer Dialogue
DESCRIPTION:The Intergroup Dialogue Program (IGD)\, part of the Bruin Resource Center at UCLA\, is facilitating OUTlet: a Queer Dialogue series this academic year. IGD encourages sustained dialogue versus debate or discussion to help individuals explore their own social identities (i.e. gender\, race\, nationality\, dis/ability\, religion/spirituality\, sexual orientation\, socioeconomic class\, etc.) and associated positions within the campus community. Food and materials will be provided. \nWho: Facilitated by IGD Student Staff\nWhen: Mondays 12-1:00pm (Weeks 6\, 8\, & 10)\nWhere: LGBT Resource Center
URL:https://lgbtqstudies.ucla.edu/event/lgbtqs-co-sponsored-event-outlet-queer-dialogue-3/
LOCATION:LGBT Resource Center\, 220 Westwood Blvd\, Los Angeles\, CA\, 90095\, United States
ATTACH;FMTTYPE=image/jpeg:https://lgbtqstudies.ucla.edu/wp-content/uploads/2019/10/OUTlet-Fall-Flyer.jpg
END:VEVENT
END:VCALENDAR