BEGIN:VCALENDAR
VERSION:2.0
PRODID:-//LGBTQ Studies - UCLA - ECPv6.15.12.2//NONSGML v1.0//EN
CALSCALE:GREGORIAN
METHOD:PUBLISH
X-ORIGINAL-URL:https://lgbtqstudies.ucla.edu
X-WR-CALDESC:Events for LGBTQ Studies - UCLA
REFRESH-INTERVAL;VALUE=DURATION:PT1H
X-Robots-Tag:noindex
X-PUBLISHED-TTL:PT1H
BEGIN:VTIMEZONE
TZID:America/Los_Angeles
BEGIN:DAYLIGHT
TZOFFSETFROM:-0800
TZOFFSETTO:-0700
TZNAME:PDT
DTSTART:20190310T100000
END:DAYLIGHT
BEGIN:STANDARD
TZOFFSETFROM:-0700
TZOFFSETTO:-0800
TZNAME:PST
DTSTART:20191103T090000
END:STANDARD
BEGIN:DAYLIGHT
TZOFFSETFROM:-0800
TZOFFSETTO:-0700
TZNAME:PDT
DTSTART:20200308T100000
END:DAYLIGHT
BEGIN:STANDARD
TZOFFSETFROM:-0700
TZOFFSETTO:-0800
TZNAME:PST
DTSTART:20201101T090000
END:STANDARD
BEGIN:DAYLIGHT
TZOFFSETFROM:-0800
TZOFFSETTO:-0700
TZNAME:PDT
DTSTART:20210314T100000
END:DAYLIGHT
BEGIN:STANDARD
TZOFFSETFROM:-0700
TZOFFSETTO:-0800
TZNAME:PST
DTSTART:20211107T090000
END:STANDARD
END:VTIMEZONE
BEGIN:VEVENT
DTSTART;TZID=America/Los_Angeles:20200430T160000
DTEND;TZID=America/Los_Angeles:20200430T180000
DTSTAMP:20260421T230822
CREATED:20200310T001210Z
LAST-MODIFIED:20200318T155442Z
UID:4081-1588262400-1588269600@lgbtqstudies.ucla.edu
SUMMARY:[Event Canceled Due to Campus Closure] QueerCurrent Lecture Series: "The Gay Second Generation: How Sexuality Shapes the Trajectories of Queer Sons of Immigrants" by Anthony Ocampo
DESCRIPTION:[Event Canceled Due to Campus Closure]\nLGBTQ Studies cordially invites you to their next lecture series QueerCurrent event. Over the past two decades\, researchers have produced thousands of studies on Latinx and Asian American children of immigrants\, better known as the immigrant second generation. These studies have highlighted how structural\, neighborhood\, race\, and cultural factors have facilitated divergent mobility trajectories for the contemporary second generation. Notably absent from these studies are the experiences of LGBTQ children of immigrants. Drawing on interviews with 63 Filipino and Latino queer men in Los Angeles\, I examine how sexuality shapes the academic trajectories for the gay second generation. With this talk\, I demonstrate how centering LGBTQ children of immigrants has the potential to advance theoretical frameworks on the immigrant second generation. \nAnthony Ocampo is Associate Professor of Sociology at Cal Poly Pomona and a Ford Foundation Fellow. He is the author of The Latinos of Asia: How Filipino Americans Break the Rules of Race (Stanford University Press)\, and co-editor of Contemporary Asian America (NYU Press). His research has appeared in education\, sociology\, and ethnic studies journals\, including Ethnic and Racial Studies; Journal of Ethnic and Migration Studies\, Race\, Ethnicity\, and Education; Ethnic and Racial Studies; Latino Studies; and the Journal of Asian American Studies. Dr. Ocampo’s research and commentaries on immigration\, race\, and education have been featured on NPR\, Public Radio International\, The New York Times\, and The San Francisco Chronicle. He is currently finishing his new book Brown and Gay in LA: Queer Sons of Immigrants Coming of Age\, under contract with NYU Press. \nLocation TBD \nLight refreshments\nPlease RSVP by April 24
URL:https://lgbtqstudies.ucla.edu/event/queercurrent-lecture-series-the-gay-second-generation-how-sexuality-shapes-the-trajectories-of-queer-sons-of-immigrants-by-anthony-ocampo/
LOCATION:CA
END:VEVENT
END:VCALENDAR