BEGIN:VCALENDAR
VERSION:2.0
PRODID:-//LGBTQ Studies - UCLA - ECPv6.15.12.2//NONSGML v1.0//EN
CALSCALE:GREGORIAN
METHOD:PUBLISH
X-WR-CALNAME:LGBTQ Studies - UCLA
X-ORIGINAL-URL:https://lgbtqstudies.ucla.edu
X-WR-CALDESC:Events for LGBTQ Studies - UCLA
REFRESH-INTERVAL;VALUE=DURATION:PT1H
X-Robots-Tag:noindex
X-PUBLISHED-TTL:PT1H
BEGIN:VTIMEZONE
TZID:America/Los_Angeles
BEGIN:DAYLIGHT
TZOFFSETFROM:-0800
TZOFFSETTO:-0700
TZNAME:PDT
DTSTART:20190310T100000
END:DAYLIGHT
BEGIN:STANDARD
TZOFFSETFROM:-0700
TZOFFSETTO:-0800
TZNAME:PST
DTSTART:20191103T090000
END:STANDARD
BEGIN:DAYLIGHT
TZOFFSETFROM:-0800
TZOFFSETTO:-0700
TZNAME:PDT
DTSTART:20200308T100000
END:DAYLIGHT
BEGIN:STANDARD
TZOFFSETFROM:-0700
TZOFFSETTO:-0800
TZNAME:PST
DTSTART:20201101T090000
END:STANDARD
BEGIN:DAYLIGHT
TZOFFSETFROM:-0800
TZOFFSETTO:-0700
TZNAME:PDT
DTSTART:20210314T100000
END:DAYLIGHT
BEGIN:STANDARD
TZOFFSETFROM:-0700
TZOFFSETTO:-0800
TZNAME:PST
DTSTART:20211107T090000
END:STANDARD
END:VTIMEZONE
BEGIN:VEVENT
DTSTART;TZID=America/Los_Angeles:20200528T160000
DTEND;TZID=America/Los_Angeles:20200528T180000
DTSTAMP:20260421T230717
CREATED:20200310T001617Z
LAST-MODIFIED:20200318T155527Z
UID:4087-1590681600-1590688800@lgbtqstudies.ucla.edu
SUMMARY:[Event Canceled Due to Campus Closure] QueerCurrent Lecture Series: "Facsimile: Gaysian Intimacy in the Art Work of Tommy Kha" by Hoang Tan Nugyen
DESCRIPTION:[Event Canceled Due to Campus Closure]\nLGBTQ Studies cordially invites you to their next lecture series QueerCurrent event. \nNguyen Tan Hoang is a videomaker and film​ and ​media scholar. His short experimental videos include Forever Bottom!\, ​PIRATED!\, K.I.P\, ​and ​I Remember Dancing. His videos have been screened at the Museum of Modern Art in New York\, the Getty in Los Angeles\, and the Pompidou Center in Paris. He is the author of A View from the Bottom: Asian American Masculinity and Sexual Representation (Duke UP\, 2014) and articles on porn pedagogy and Southeast Asian queer cinema. He teaches film and cultural studies at UC San Diego and serves on the editorial board of the Journal of Cinema and Media Studies. \nLocation TBD \nLight refreshments\nPlease RSVP by May 22
URL:https://lgbtqstudies.ucla.edu/event/queercurrent-lecture-series-facsimile-gaysian-intimacy-in-the-art-work-of-tommy-kha-by-hoang-tan-nugyen/
LOCATION:CA
END:VEVENT
END:VCALENDAR