BEGIN:VCALENDAR
VERSION:2.0
PRODID:-//LGBTQ Studies - UCLA - ECPv6.15.12.2//NONSGML v1.0//EN
CALSCALE:GREGORIAN
METHOD:PUBLISH
X-WR-CALNAME:LGBTQ Studies - UCLA
X-ORIGINAL-URL:https://lgbtqstudies.ucla.edu
X-WR-CALDESC:Events for LGBTQ Studies - UCLA
REFRESH-INTERVAL;VALUE=DURATION:PT1H
X-Robots-Tag:noindex
X-PUBLISHED-TTL:PT1H
BEGIN:VTIMEZONE
TZID:America/Los_Angeles
BEGIN:DAYLIGHT
TZOFFSETFROM:-0800
TZOFFSETTO:-0700
TZNAME:PDT
DTSTART:20180311T100000
END:DAYLIGHT
BEGIN:STANDARD
TZOFFSETFROM:-0700
TZOFFSETTO:-0800
TZNAME:PST
DTSTART:20181104T090000
END:STANDARD
BEGIN:DAYLIGHT
TZOFFSETFROM:-0800
TZOFFSETTO:-0700
TZNAME:PDT
DTSTART:20190310T100000
END:DAYLIGHT
BEGIN:STANDARD
TZOFFSETFROM:-0700
TZOFFSETTO:-0800
TZNAME:PST
DTSTART:20191103T090000
END:STANDARD
BEGIN:DAYLIGHT
TZOFFSETFROM:-0800
TZOFFSETTO:-0700
TZNAME:PDT
DTSTART:20200308T100000
END:DAYLIGHT
BEGIN:STANDARD
TZOFFSETFROM:-0700
TZOFFSETTO:-0800
TZNAME:PST
DTSTART:20201101T090000
END:STANDARD
END:VTIMEZONE
BEGIN:VEVENT
DTSTART;TZID=America/Los_Angeles:20191104T120000
DTEND;TZID=America/Los_Angeles:20191104T130000
DTSTAMP:20260422T073214
CREATED:20191030T173817Z
LAST-MODIFIED:20191030T210811Z
UID:3817-1572868800-1572872400@lgbtqstudies.ucla.edu
SUMMARY:LGBTQS Co-sponsored event- OUTlet: Queer Dialogue
DESCRIPTION:The Intergroup Dialogue Program (IGD)\, part of the Bruin Resource Center at UCLA\, is facilitating OUTlet: a Queer Dialogue series this academic year. IGD encourages sustained dialogue versus debate or discussion to help individuals explore their own social identities (i.e. gender\, race\, nationality\, dis/ability\, religion/spirituality\, sexual orientation\, socioeconomic class\, etc.) and associated positions within the campus community. Food and materials will be provided. \nWho: Facilitated by IGD Student Staff\nWhen: Mondays 12-1:00pm (Weeks 6\, 8\, & 10)\nWhere: LGBT Resource Center
URL:https://lgbtqstudies.ucla.edu/event/lgbtqs-co-sponsored-event-outlet-queer-dialogue/
LOCATION:LGBT Resource Center\, 220 Westwood Blvd\, Los Angeles\, CA\, 90095\, United States
ATTACH;FMTTYPE=image/jpeg:https://lgbtqstudies.ucla.edu/wp-content/uploads/2019/10/OUTlet-Fall-Flyer.jpg
END:VEVENT
BEGIN:VEVENT
DTSTART;TZID=America/Los_Angeles:20191114T160000
DTEND;TZID=America/Los_Angeles:20191114T180000
DTSTAMP:20260422T073214
CREATED:20191024T230231Z
LAST-MODIFIED:20191219T232247Z
UID:3780-1573747200-1573754400@lgbtqstudies.ucla.edu
SUMMARY:QueerCurrent Lecture Series: "Boys Don't Cry" By Stephan Pennington
DESCRIPTION:Boys Don’t Cry: Historical Empathy\, Silence\, and the Trans Masculine Soundscape\nLGBTQ Studies is pleased to introduce and cordially invite you to their first talk of the year-long lecture series QueerCurrent. This talk will look at the role of silence in crafting a racialized trans masculine soundscape within the film Boys Don’t Cry\, as well as the role of silencing in the fractious inter-generational queer debates about the film itself. \nStephan Pennington is an Associate Professor of Music at Tufts University. His research interests are concerned with the musical performances of identity and he has published and presented on a wide range of topics from the rumba craze in 1930s Germany to appropriation as a historical process. He is currently working on two book projects\, the first on transgender vocality and the second on the persistence of enlightenment white supremacy in current musicological culture. \nRoyce Hall 314 \nLight refreshments\nPlease RSVP by November 11th\nContact Claudia Defaz at cdefaz@humnet.ucla.edu for any questions.
URL:https://lgbtqstudies.ucla.edu/event/queercurrent-lecture-series-boys-dont-cry/
LOCATION:Royce Hall\, 10945 Dickson Drive\, Los Angeles\, CA\, 90095\, United States
ATTACH;FMTTYPE=image/jpeg:https://lgbtqstudies.ucla.edu/wp-content/uploads/2019/10/Pennington-flyer-2.jpg
END:VEVENT
BEGIN:VEVENT
DTSTART;TZID=America/Los_Angeles:20191118T120000
DTEND;TZID=America/Los_Angeles:20191118T130000
DTSTAMP:20260422T073214
CREATED:20191030T205606Z
LAST-MODIFIED:20191030T205716Z
UID:3822-1574078400-1574082000@lgbtqstudies.ucla.edu
SUMMARY:LGBTQS Co-sponsored event- OUTlet: Queer Dialogue
DESCRIPTION:The Intergroup Dialogue Program (IGD)\, part of the Bruin Resource Center at UCLA\, is facilitating OUTlet: a Queer Dialogue series this academic year. IGD encourages sustained dialogue versus debate or discussion to help individuals explore their own social identities (i.e. gender\, race\, nationality\, dis/ability\, religion/spirituality\, sexual orientation\, socioeconomic class\, etc.) and associated positions within the campus community. Food and materials will be provided. \nWho: Facilitated by IGD Student Staff\nWhen: Mondays 12-1:00pm (Weeks 6\, 8\, & 10)\nWhere: LGBT Resource Center
URL:https://lgbtqstudies.ucla.edu/event/lgbtqs-co-sponsored-event-outlet-queer-dialogue-2/
LOCATION:LGBT Resource Center\, 220 Westwood Blvd\, Los Angeles\, CA\, 90095\, United States
ATTACH;FMTTYPE=image/jpeg:https://lgbtqstudies.ucla.edu/wp-content/uploads/2019/10/OUTlet-Fall-Flyer.jpg
END:VEVENT
BEGIN:VEVENT
DTSTART;TZID=America/Los_Angeles:20191122T090000
DTEND;TZID=America/Los_Angeles:20191123T150000
DTSTAMP:20260422T073214
CREATED:20191022T172603Z
LAST-MODIFIED:20191030T165323Z
UID:3773-1574413200-1574521200@lgbtqstudies.ucla.edu
SUMMARY:LGBTQS Co-sponsored Symposium- "You Imagine Me\, and I Exist:" The Afterlives of Sor Juana Inés de la Cruz (1648-1695)
DESCRIPTION:The UCLA Center for Musical Humanities Presents: \n“You Imagine Me\, and I Exist:” The Afterlives of Sor Juana Inés de la Cruz (1648-1695) \nNovember 22-23\, 2019  \nRoyce 314 \nThis symposium explores the multiple “afterlives” of Sor Juana\, i.e.\, the many ways in which the famous/infamous nun has been represented – from 17th- and 18th-century visual and literary portraits to 20th- and 21st-century historical novels\, poetry\, plays\, films\, musical performances\, visual arts\, and even a Netflix mini-series. The title of the symposium\, ‘You Imagine Me\, and I Exist\,’ comes from the English translation of an unfinished poem that was found in Sor Juana’s cell after her death in 1695 (proving that she never stopped writing). It was addressed to her supporters in Spain\, and she was thanking them for “breathing another spirit into [her]\,” that is\, giving her work new life by representing her\, not as she was – a nun struggling (as she put it) to “learn more [and] be ignorant about less” – but as they wanted to imagine her: a great intellectual\, a sublime poet\, a phoenix rising from the ashes. \nDesigned for the campus community\, particularly students and faculty of the Herb Alpert School of Music\, and those in the divisions of Social Sciences and Humanities\, as well as the broader Los Angeles community\, this is a great opportunity to listen to music produced in colonial Mexican convents and learn about the life\, history\, and culture of Sor Juana Ines de la Cruz. \nPresented by the UCLA Center for Musical Humanities\, UCLA Chicano/a Studies\, and UCLA LGBTQ Studies. \nFor more information\, visit: https://schoolofmusic.ucla.edu/resources/center-for-musical-humanities/you-imagine-me-and-i-exist-the-afterlives-of-sor-juana-ines-de-la-cruz/
URL:https://lgbtqstudies.ucla.edu/event/lgbtqs-sponsored-symposium-sor-juana/
LOCATION:Royce Hall\, 10945 Dickson Drive\, Los Angeles\, CA\, 90095\, United States
ATTACH;FMTTYPE=image/jpeg:https://lgbtqstudies.ucla.edu/wp-content/uploads/2019/10/Juana-Flyer-1.jpg
END:VEVENT
BEGIN:VEVENT
DTSTART;TZID=America/Los_Angeles:20191126T160000
DTEND;TZID=America/Los_Angeles:20191126T180000
DTSTAMP:20260422T073214
CREATED:20191113T183104Z
LAST-MODIFIED:20191113T183104Z
UID:3830-1574784000-1574791200@lgbtqstudies.ucla.edu
SUMMARY:Queer Graduate Pedagogy Discussion Group
DESCRIPTION:This academic year (2019-2020)\, the program in LGBTQ Studies is sponsoring a Queer Graduate Pedagogy Discussion Group! If you are a graduate student or a postdoc at UCLA in any department\, you are welcome to attend. The group takes up relevant issues including dealing with challenging course content\, managing classroom dynamics\, being a queer TA in a classroom\, balancing issues of work and life\, and any other pedagogical concerns participants find central to their work as teachers and mentors. Come find support for your work as an instructor and your life as a student. Join us for light refreshments and thoughtful conversation! \nThe group meets from 4-6pm on the 4th Tuesday of most months in the academic year\, starting October 22nd\, 2019 in the Lavender Ballroom (Haines A9). Please contact Program Coordinator\, Claudia Defaz at cdefaz@humnet.ucla.edu if you have any questions.
URL:https://lgbtqstudies.ucla.edu/event/queer-graduate-pedagogy-discussion-group/
LOCATION:Haines Hall\, 375 Portola Plaza\, Los Angeles\, CA\, 90095\, United States
ATTACH;FMTTYPE=image/png:https://lgbtqstudies.ucla.edu/wp-content/uploads/2019/11/LGBTQS-QGPDG-flyer.png
END:VEVENT
END:VCALENDAR